BEGIN:VCALENDAR
VERSION:2.0
PRODID:-//Saving Seafood - ECPv5.15.0.1//NONSGML v1.0//EN
CALSCALE:GREGORIAN
METHOD:PUBLISH
X-WR-CALNAME:Saving Seafood
X-ORIGINAL-URL:https://www.savingseafood.org
X-WR-CALDESC:Events for Saving Seafood
BEGIN:VTIMEZONE
TZID:America/New_York
BEGIN:DAYLIGHT
TZOFFSETFROM:-0500
TZOFFSETTO:-0400
TZNAME:EDT
DTSTART:20150308T070000
END:DAYLIGHT
BEGIN:STANDARD
TZOFFSETFROM:-0400
TZOFFSETTO:-0500
TZNAME:EST
DTSTART:20151101T060000
END:STANDARD
END:VTIMEZONE
BEGIN:VEVENT
DTSTART;TZID=America/New_York:20150617T110000
DTEND;TZID=America/New_York:20150617T120000
DTSTAMP:20260422T014352
CREATED:20150608T203528Z
LAST-MODIFIED:20150608T203704Z
UID:21689-1434538800-1434542400@www.savingseafood.org
SUMMARY:WEBINAR: Breaking the Chains - How to Avoid Human Trafficking in the Seafood Supply Chain
DESCRIPTION:June 17\, 2015 — The following was released by SeafoodSource.com \nWednesday\, 17 June 2015:\n 11:00 AM – 12:00 PM (EST)\n\nIt’s been a year since Thailand dropped to Tier 3 on the U.S. State Department’s Trafficking in Persons Report\, in part due to the country’s lack of controlling the ongoing problem of human trafficking in the fishing industry. \nRecent media reports show the problem still exists and importers at the other end of the supply chain need to consider their options to prevent being connected to this kind of behavior. \nIn this webinar on Wednesday\, 17 June at 11am EST\, we’ll talk about what’s changed\, if things have improved\, and what seafood professionals can do to safeguard their seafood supply chains. \nWant to attend? Sign up for your one-week Premium Membership FREE trial* and register to attend the webinar. \n*Your one-week trial to SeafoodSource.com premium content is free of charge for the first week. \nView an online version of the release from SeafoodSource.com
URL:https://www.savingseafood.org/event/webinar-breaking-the-chains-how-to-avoid-human-trafficking-in-the-seafood-supply-chain/
END:VEVENT
END:VCALENDAR