BEGIN:VCALENDAR
VERSION:2.0
PRODID:-//Saving Seafood - ECPv5.15.0.1//NONSGML v1.0//EN
CALSCALE:GREGORIAN
METHOD:PUBLISH
X-WR-CALNAME:Saving Seafood
X-ORIGINAL-URL:https://www.savingseafood.org
X-WR-CALDESC:Events for Saving Seafood
BEGIN:VTIMEZONE
TZID:America/New_York
BEGIN:DAYLIGHT
TZOFFSETFROM:-0500
TZOFFSETTO:-0400
TZNAME:EDT
DTSTART:20150308T070000
END:DAYLIGHT
BEGIN:STANDARD
TZOFFSETFROM:-0400
TZOFFSETTO:-0500
TZNAME:EST
DTSTART:20151101T060000
END:STANDARD
END:VTIMEZONE
BEGIN:VEVENT
DTSTART;TZID=America/New_York:20150902T103000
DTEND;TZID=America/New_York:20150902T120000
DTSTAMP:20260422T001139
CREATED:20150901T214022Z
LAST-MODIFIED:20150901T214149Z
UID:23411-1441189800-1441195200@www.savingseafood.org
SUMMARY:Pew Environment Hosting Live Webcast on IUU Fishing
DESCRIPTION:In just a few weeks\, world leaders will address the planet’s most pressing marine issues at the Our Ocean conference in Chile. Will they land a blow against illegal fishing and other crimes—and protect more of our global ocean? \nFor an exclusive preview of the conference\, Pew has gathered an all-star panel of experts and insiders—and you’re invited. \nLearn more about the webcast and view the agenda from Pew Environment
URL:https://www.savingseafood.org/event/pew-environment-hosting-live-webcast-on-iuu-fishing/
LOCATION:The Pew Charitable Trusts\, 901 E St. NW\, Washington\, 20004\, United States
END:VEVENT
END:VCALENDAR