BEGIN:VCALENDAR
VERSION:2.0
PRODID:-//Saving Seafood - ECPv5.15.0.1//NONSGML v1.0//EN
CALSCALE:GREGORIAN
METHOD:PUBLISH
X-WR-CALNAME:Saving Seafood
X-ORIGINAL-URL:https://www.savingseafood.org
X-WR-CALDESC:Events for Saving Seafood
BEGIN:VTIMEZONE
TZID:America/New_York
BEGIN:DAYLIGHT
TZOFFSETFROM:-0500
TZOFFSETTO:-0400
TZNAME:EDT
DTSTART:20150308T070000
END:DAYLIGHT
BEGIN:STANDARD
TZOFFSETFROM:-0400
TZOFFSETTO:-0500
TZNAME:EST
DTSTART:20151101T060000
END:STANDARD
END:VTIMEZONE
BEGIN:VEVENT
DTSTART;TZID=America/New_York:20150722T100000
DTEND;TZID=America/New_York:20150722T120000
DTSTAMP:20260422T032228
CREATED:20150721T204613Z
LAST-MODIFIED:20150721T204613Z
UID:22469-1437559200-1437566400@www.savingseafood.org
SUMMARY:New Times and Locations: Northeast Fisheries Science Center Hosting Meetings on Groundfish Operational Assessments
DESCRIPTION:Times and Locations on July 22: \nNew Bedford and Woods Hole meetings from 10am-12noon \nGloucester and Portland meetings from 2-4pm  \nHampton\, NH meeting from 6-8pm
URL:https://www.savingseafood.org/event/new-times-and-locations-northeast-fisheries-science-center-hosting-meetings-on-groundfish-operational-assessments/
END:VEVENT
END:VCALENDAR