BEGIN:VCALENDAR
VERSION:2.0
PRODID:-//Saving Seafood - ECPv5.15.0.1//NONSGML v1.0//EN
CALSCALE:GREGORIAN
METHOD:PUBLISH
X-WR-CALNAME:Saving Seafood
X-ORIGINAL-URL:https://www.savingseafood.org
X-WR-CALDESC:Events for Saving Seafood
BEGIN:VTIMEZONE
TZID:America/New_York
BEGIN:DAYLIGHT
TZOFFSETFROM:-0500
TZOFFSETTO:-0400
TZNAME:EDT
DTSTART:20150308T070000
END:DAYLIGHT
BEGIN:STANDARD
TZOFFSETFROM:-0400
TZOFFSETTO:-0500
TZNAME:EST
DTSTART:20151101T060000
END:STANDARD
END:VTIMEZONE
BEGIN:VEVENT
DTSTART;TZID=America/New_York:20150717T180000
DTEND;TZID=America/New_York:20150717T230000
DTSTAMP:20260422T032228
CREATED:20150715T203456Z
LAST-MODIFIED:20150715T203456Z
UID:22357-1437156000-1437174000@www.savingseafood.org
SUMMARY:NEW BEDFORD: Fish fry fundraiser Friday benefits Fishing Heritage Center
DESCRIPTION:
URL:https://www.savingseafood.org/event/new-bedford-fish-fry-fundraiser-friday-benefits-fishing-heritage-center/
LOCATION:Cotali Mar Restaurant\, 1178 Acushnet Ave.\, New Bedford\, MA\, 02746\, United States
END:VEVENT
END:VCALENDAR