BEGIN:VCALENDAR
VERSION:2.0
PRODID:-//Saving Seafood - ECPv5.15.0.1//NONSGML v1.0//EN
CALSCALE:GREGORIAN
METHOD:PUBLISH
X-WR-CALNAME:Saving Seafood
X-ORIGINAL-URL:https://www.savingseafood.org
X-WR-CALDESC:Events for Saving Seafood
BEGIN:VTIMEZONE
TZID:America/New_York
BEGIN:DAYLIGHT
TZOFFSETFROM:-0500
TZOFFSETTO:-0400
TZNAME:EDT
DTSTART:20150308T070000
END:DAYLIGHT
BEGIN:STANDARD
TZOFFSETFROM:-0400
TZOFFSETTO:-0500
TZNAME:EST
DTSTART:20151101T060000
END:STANDARD
END:VTIMEZONE
BEGIN:VEVENT
DTSTART;TZID=America/New_York:20150929T080000
DTEND;TZID=America/New_York:20151001T170000
DTSTAMP:20260422T014331
CREATED:20150928T211244Z
LAST-MODIFIED:20150928T211244Z
UID:24039-1443513600-1443718800@www.savingseafood.org
SUMMARY:NEFMC Fall Meeting
DESCRIPTION:Meeting: The public is invited to listen in to the September 29 – October 1\, 2015 Council Meeting at the Radisson Hotel\, Plymouth\, MA. \nLocation: For further information about the venue\, Radisson Plymouth\, MA \nWebinar Registration: See https://attendee.gotowebinar.com/register/4706439000922282497 for online access to the meeting. The webinar will be activated beginning at 8:00 a.m. each day and end at approximately 6:00 p.m. EST . \nCharges for Listening: There are no charges if you access the webinar via your computer. If dialing in\, your normal phone charges will apply. \nDial in number: Toll: +1 (702) 489-0007 \nAccess Code: 294-485-239 \nMeeting Materials: Please consult our website Sept 2015 Council Meeting to find copies of the materials to be considered.
URL:https://www.savingseafood.org/event/nefmc-fall-meeting/
LOCATION:Raddison\, Plymouth\, MA\, United States
END:VEVENT
END:VCALENDAR